BEGIN:VCALENDAR
VERSION:2.0
PRODID:-//La Marge Rousse - ECPv6.15.17//NONSGML v1.0//EN
CALSCALE:GREGORIAN
METHOD:PUBLISH
X-WR-CALNAME:La Marge Rousse
X-ORIGINAL-URL:https://www.lamargerousse.com
X-WR-CALDESC:Évènements pour La Marge Rousse
REFRESH-INTERVAL;VALUE=DURATION:PT1H
X-Robots-Tag:noindex
X-PUBLISHED-TTL:PT1H
BEGIN:VTIMEZONE
TZID:Europe/Paris
BEGIN:DAYLIGHT
TZOFFSETFROM:+0100
TZOFFSETTO:+0200
TZNAME:CEST
DTSTART:20240331T010000
END:DAYLIGHT
BEGIN:STANDARD
TZOFFSETFROM:+0200
TZOFFSETTO:+0100
TZNAME:CET
DTSTART:20241027T010000
END:STANDARD
BEGIN:DAYLIGHT
TZOFFSETFROM:+0100
TZOFFSETTO:+0200
TZNAME:CEST
DTSTART:20250330T010000
END:DAYLIGHT
BEGIN:STANDARD
TZOFFSETFROM:+0200
TZOFFSETTO:+0100
TZNAME:CET
DTSTART:20251026T010000
END:STANDARD
BEGIN:DAYLIGHT
TZOFFSETFROM:+0100
TZOFFSETTO:+0200
TZNAME:CEST
DTSTART:20260329T010000
END:DAYLIGHT
BEGIN:STANDARD
TZOFFSETFROM:+0200
TZOFFSETTO:+0100
TZNAME:CET
DTSTART:20261025T010000
END:STANDARD
END:VTIMEZONE
BEGIN:VEVENT
DTSTART;TZID=Europe/Paris:20251023T203000
DTEND;TZID=Europe/Paris:20251023T213000
DTSTAMP:20260420T005106
CREATED:20251019T182602Z
LAST-MODIFIED:20251019T213526Z
UID:4655-1761251400-1761255000@www.lamargerousse.com
SUMMARY:VALENTIN SHOW – Loïc Labaste
DESCRIPTION:C’est un seul en scène théâtral et musical mêlant chant\, danse et claquettes au service de ce clown burlesque qu’est Valentin. \nValentin a rendez-vous avec un grand metteur en scène qu’il admire pour passer le casting de sa prochaine comédie musicale.\nEntre excitation\, stress et attente\, il se livre sur sa passion\, ses souvenirs et ses fantasmes.\nA travers ce personnage burlesque et désopilant\, Valentin nous transporte dans un univers cabaret rempli de poésie. \nEntre clown et mime\, Loïc Labaste rend hommage aux comédies musicales de Broadway avec Gene Kelly et aux grands chansonniers telle que Fernandel et Edith Piaf.\nDe nombreux numéros allient sa passion allant du cinéma avec Charlie Chaplin jusqu’au théâtre de boulevard avec Jacqueline Maillan. \nTexte et Mise en scène :\n@lucas_radziejewski et @loiclabaste \n Création visuelle @jrm_pellerin_moncler\n Claquettes de @ballettodanceshop\n @williamoceguera_studio
URL:https://www.lamargerousse.com/evenement-artisse/valentin-show-loic-labaste/
LOCATION:Théâtre Artisse\, 29\, rue Ausone\, Bordeaux\, 33000\, France
CATEGORIES:Seul·e en scène,Théâtre
ATTACH;FMTTYPE=image/png:https://www.lamargerousse.com/wp-content/uploads/2025/10/photo-output-2.png
END:VEVENT
BEGIN:VEVENT
DTSTART;TZID=Europe/Paris:20251025T203000
DTEND;TZID=Europe/Paris:20251025T213000
DTSTAMP:20260420T005106
CREATED:20251019T211241Z
LAST-MODIFIED:20251019T213526Z
UID:4741-1761424200-1761427800@www.lamargerousse.com
SUMMARY:VALENTIN SHOW – Loïc Labaste
DESCRIPTION: C’est un seul en scène théâtral et musical mêlant chant\, danse et claquettes au service de ce clown burlesque qu’est Valentin . \nValentin a rendez-vous avec un grand metteur en scène qu’il admire pour passer le casting de sa prochaine comédie musicale.\nEntre excitation\, stress et attente\, il se livre sur sa passion\, ses souvenirs et ses fantasmes.\nA travers ce personnage burlesque et désopilant\, Valentin nous transporte dans un univers cabaret rempli de poésie. \nEntre clown et mime\, Loïc Labaste rend hommage aux comédies musicales de Broadway avec Gene Kelly et aux grands chansonniers telle que Fernandel et Edith Piaf.\nDe nombreux numéros allient sa passion allant du cinéma avec Charlie Chaplin jusqu’au théâtre de boulevard avec Jacqueline Maillan. \nTexte et Mise en scène :\n@lucas_radziejewski et @loiclabaste \n Création visuelle @jrm_pellerin_moncler\n Claquettes de @ballettodanceshop\n @williamoceguera_studio
URL:https://www.lamargerousse.com/evenement-artisse/valentin-show-loic-labaste-2/
LOCATION:Théâtre Artisse\, 29\, rue Ausone\, Bordeaux\, 33000\, France
CATEGORIES:Seul·e en scène,Théâtre
ATTACH;FMTTYPE=image/png:https://www.lamargerousse.com/wp-content/uploads/2025/10/photo-output-2.png
END:VEVENT
BEGIN:VEVENT
DTSTART;TZID=Europe/Paris:20251030T203000
DTEND;TZID=Europe/Paris:20251030T213000
DTSTAMP:20260420T005106
CREATED:20251019T211451Z
LAST-MODIFIED:20251019T213526Z
UID:4743-1761856200-1761859800@www.lamargerousse.com
SUMMARY:CHISTERA – Émile Faure
DESCRIPTION:Un jeune homme revient sur son parcours de rugbyman. Il raconte ce que ce sport lui a apporté\, ce qu’il en reste aujourd’hui. L’enfance\, l’adolescence\, les vestiaires\, les entraînements\, les\nfigures qui marquent\, les liens tissés\, les défaites\, les victoires. Il raconte son histoire simplement\, avec humour et tendresse. \nLe spectacle s’appelle Chistera. C’est le nom d’un geste technique au rugby. Un geste à l’aveugle\, qui demande de la précision et de la confiance. C’est\naussi le symbole de la technique au service du jeu. \nSur scène\, plusieurs registres se mêlent : narration\, personnages\, clown\, chant\, danse\, mime. Le quatrième mur est brisé. Le public est directement impliqué. \nMise en scène : @_emilefaure_ et @romy._.br\nCréation visuelle : @jrm_pellerin_moncler
URL:https://www.lamargerousse.com/evenement-artisse/chistera-emile-faure/
LOCATION:Théâtre Artisse\, 29\, rue Ausone\, Bordeaux\, 33000\, France
CATEGORIES:Seul·e en scène,Théâtre
ATTACH;FMTTYPE=image/png:https://www.lamargerousse.com/wp-content/uploads/2025/10/photo-output-5.png
END:VEVENT
END:VCALENDAR